BEGIN:VCALENDAR
VERSION:2.0
PRODID:-//Tukios.com/
BEGIN:VEVENT
UID:e8ff09c5-6358-4656-8117-b7c8ac113c72@www.kuhlerfuneralhome.com
DTSTAMP:20260420T190306Z
DTSTART:20260516T180000Z
DTEND:20260516T183000Z
SUMMARY:Graveside Service
DESCRIPTION:Saturday, May 16, 2026
URL:https://www.kuhlerfuneralhome.com/obituaries/inez-huether-lehr
LOCATION: 21453 South Dakota 37  Huron SD 57350
GEO:44.2755112;-98.2158805
END:VEVENT
END:VCALENDAR